BEGIN:VCALENDAR
VERSION:2.0
PRODID:-//Laura Rodriguez Medical Assistant Institute - ECPv6.15.20//NONSGML v1.0//EN
CALSCALE:GREGORIAN
METHOD:PUBLISH
X-ORIGINAL-URL:https://lrmai.org
X-WR-CALDESC:Events for Laura Rodriguez Medical Assistant Institute
REFRESH-INTERVAL;VALUE=DURATION:PT1H
X-Robots-Tag:noindex
X-PUBLISHED-TTL:PT1H
BEGIN:VTIMEZONE
TZID:America/Los_Angeles
BEGIN:DAYLIGHT
TZOFFSETFROM:-0800
TZOFFSETTO:-0700
TZNAME:PDT
DTSTART:20210314T100000
END:DAYLIGHT
BEGIN:STANDARD
TZOFFSETFROM:-0700
TZOFFSETTO:-0800
TZNAME:PST
DTSTART:20211107T090000
END:STANDARD
BEGIN:DAYLIGHT
TZOFFSETFROM:-0800
TZOFFSETTO:-0700
TZNAME:PDT
DTSTART:20220313T100000
END:DAYLIGHT
BEGIN:STANDARD
TZOFFSETFROM:-0700
TZOFFSETTO:-0800
TZNAME:PST
DTSTART:20221106T090000
END:STANDARD
BEGIN:DAYLIGHT
TZOFFSETFROM:-0800
TZOFFSETTO:-0700
TZNAME:PDT
DTSTART:20230312T100000
END:DAYLIGHT
BEGIN:STANDARD
TZOFFSETFROM:-0700
TZOFFSETTO:-0800
TZNAME:PST
DTSTART:20231105T090000
END:STANDARD
BEGIN:DAYLIGHT
TZOFFSETFROM:-0800
TZOFFSETTO:-0700
TZNAME:PDT
DTSTART:20240310T100000
END:DAYLIGHT
BEGIN:STANDARD
TZOFFSETFROM:-0700
TZOFFSETTO:-0800
TZNAME:PST
DTSTART:20241103T090000
END:STANDARD
END:VTIMEZONE
BEGIN:VEVENT
DTSTART;TZID=America/Los_Angeles:20230814T080000
DTEND;TZID=America/Los_Angeles:20230814T150000
DTSTAMP:20260423T124354
CREATED:20230812T194350Z
LAST-MODIFIED:20230812T202426Z
UID:9995-1692000000-1692025200@lrmai.org
SUMMARY:C2FT - Module 110
DESCRIPTION:Labor Day\n\n\nFirst day of classes for Cohort 2 (full-time) \n\n\n\n\n\n\nEvent Details\n\n\n\n	\n	\n\n	\n					Details		\n	\n	\n\n		\n			\n				Date:\n				\n					 September 4\, 2023 \n				\n			\n\n		\n		\n		\n		Event Category: Holidays\n		\n		\n			\n\n	\n	\n\n\n\n\n\nUpcoming Events\n\n\n\n\n	\n		\n\n			\n			\n\n			\n			\n				\n			\n			\n	\n		\n		\n		\n		\n	\n\n\n	Notice\n							\n					There are no upcoming events.
URL:https://lrmai.org/event/c2ft-module-110/
CATEGORIES:C2FT
END:VEVENT
BEGIN:VEVENT
DTSTART;TZID=America/Los_Angeles:20230529T080000
DTEND;TZID=America/Los_Angeles:20230529T170000
DTSTAMP:20260423T124354
CREATED:20230310T180815Z
LAST-MODIFIED:20230310T182647Z
UID:9536-1685347200-1685379600@lrmai.org
SUMMARY:Memorial Day
DESCRIPTION:Labor Day\n\n\nCampus closed for holiday \n\n\n\n\n\n\nEvent Details\n\n\n\n	\n	\n\n	\n					Details		\n	\n	\n\n		\n			\n				Date:\n				\n					 September 4\, 2023 \n				\n			\n\n		\n		\n		\n		Event Category: Holidays\n		\n		\n			\n\n	\n	\n\n\n\n\n\nUpcoming Events\n\n\n\n\n	\n		\n\n			\n			\n\n			\n			\n				\n			\n			\n	\n		\n		\n		\n		\n	\n\n\n	Notice\n							\n					There are no upcoming events.
URL:https://lrmai.org/event/memorial-day/
CATEGORIES:Holidays
ATTACH;FMTTYPE=image/png:https://lrmai.org/wp-content/uploads/2023/03/Memorial-Day.png
END:VEVENT
BEGIN:VEVENT
DTSTART;TZID=America/Los_Angeles:20230417T080000
DTEND;TZID=America/Los_Angeles:20230417T170000
DTSTAMP:20260423T124354
CREATED:20230307T230743Z
LAST-MODIFIED:20230812T200110Z
UID:9526-1681718400-1681750800@lrmai.org
SUMMARY:C2PT - Application Deadline
DESCRIPTION:Labor Day\n\n\n\n\n\nEvent Details\n\n\n\n	\n	\n\n	\n					Details		\n	\n	\n\n		\n			\n				Date:\n				\n					 September 4\, 2023 \n				\n			\n\n		\n		\n		\n		Event Category: Holidays\n		\n		\n			\n\n	\n	\n\n\n\n\n\nUpcoming Events\n\n\n\n\n	\n		\n\n			\n			\n\n			\n			\n				\n			\n			\n	\n		\n		\n		\n		\n	\n\n\n	Notice\n							\n					There are no upcoming events.
URL:https://lrmai.org/event/cohort-2-pt-application-period/
CATEGORIES:C2PT
ATTACH;FMTTYPE=image/png:https://lrmai.org/wp-content/uploads/2023/03/LRMAI-Application-Deadline.png
END:VEVENT
BEGIN:VEVENT
DTSTART;TZID=America/Los_Angeles:20230417T080000
DTEND;TZID=America/Los_Angeles:20230417T170000
DTSTAMP:20260423T124354
CREATED:20230307T230204Z
LAST-MODIFIED:20230812T200533Z
UID:9522-1681718400-1681750800@lrmai.org
SUMMARY:C2FT - Application Deadline
DESCRIPTION:Labor Day\n\n\n\n\n\nEvent Details\n\n\n\n	\n	\n\n	\n					Details		\n	\n	\n\n		\n			\n				Date:\n				\n					 September 4\, 2023 \n				\n			\n\n		\n		\n		\n		Event Category: Holidays\n		\n		\n			\n\n	\n	\n\n\n\n\n\nUpcoming Events\n\n\n\n\n	\n		\n\n			\n			\n\n			\n			\n				\n			\n			\n	\n		\n		\n		\n		\n	\n\n\n	Notice\n							\n					There are no upcoming events.
URL:https://lrmai.org/event/cohort-2-ft-application-period/
CATEGORIES:C2FT
ATTACH;FMTTYPE=image/png:https://lrmai.org/wp-content/uploads/2023/03/LRMAI-Application-Deadline.png
END:VEVENT
BEGIN:VEVENT
DTSTART;TZID=America/Los_Angeles:20221226T080000
DTEND;TZID=America/Los_Angeles:20221226T170000
DTSTAMP:20260423T124354
CREATED:20221025T212212Z
LAST-MODIFIED:20221025T212812Z
UID:8846-1672041600-1672074000@lrmai.org
SUMMARY:Christmas
DESCRIPTION:Labor Day\n\n\n\n\n\nEvent Details\n\n\n\n	\n	\n\n	\n					Details		\n	\n	\n\n		\n			\n				Date:\n				\n					 September 4\, 2023 \n				\n			\n\n		\n		\n		\n		Event Category: Holidays\n		\n		\n			\n\n	\n	\n\n\n\n\n\nUpcoming Events\n\n\n\n\n	\n		\n\n			\n			\n\n			\n			\n				\n			\n			\n	\n		\n		\n		\n		\n	\n\n\n	Notice\n							\n					There are no upcoming events.
URL:https://lrmai.org/event/christmas/
CATEGORIES:Holidays
ATTACH;FMTTYPE=image/jpeg:https://lrmai.org/wp-content/uploads/2022/06/LRMAI-Event_Christmas-Holiday.jpg
END:VEVENT
BEGIN:VEVENT
DTSTART;TZID=America/Los_Angeles:20221216T080000
DTEND;TZID=America/Los_Angeles:20221216T170000
DTSTAMP:20260423T124354
CREATED:20221014T205957Z
LAST-MODIFIED:20230812T195946Z
UID:8608-1671177600-1671210000@lrmai.org
SUMMARY:C1PT - Application Deadline
DESCRIPTION:
URL:https://lrmai.org/event/cohort-1-pt-application-period/
CATEGORIES:C1PT
END:VEVENT
BEGIN:VEVENT
DTSTART;TZID=America/Los_Angeles:20221216T080000
DTEND;TZID=America/Los_Angeles:20221216T170000
DTSTAMP:20260423T124354
CREATED:20221014T205704Z
LAST-MODIFIED:20230812T200733Z
UID:8603-1671177600-1671210000@lrmai.org
SUMMARY:C1FT - Application Deadline
DESCRIPTION:Labor Day\n\n\n\n\n\nEvent Details\n\n\n\n	\n	\n\n	\n					Details		\n	\n	\n\n		\n			\n				Date:\n				\n					 September 4\, 2023 \n				\n			\n\n		\n		\n		\n		Event Category: Holidays\n		\n		\n			\n\n	\n	\n\n\n\n\n\nUpcoming Events\n\n\n\n\n	\n		\n\n			\n			\n\n			\n			\n				\n			\n			\n	\n		\n		\n		\n		\n	\n\n\n	Notice\n							\n					There are no upcoming events.
URL:https://lrmai.org/event/cohort-1-ft-application-period/
CATEGORIES:C1FT
ATTACH;FMTTYPE=image/jpeg:https://lrmai.org/wp-content/uploads/2022/06/LRMAI_Events3.jpg
END:VEVENT
BEGIN:VEVENT
DTSTART;TZID=America/Los_Angeles:20221124T080000
DTEND;TZID=America/Los_Angeles:20221125T170000
DTSTAMP:20260423T124354
CREATED:20221025T211015Z
LAST-MODIFIED:20230310T211532Z
UID:8837-1669276800-1669395600@lrmai.org
SUMMARY:Thanksgiving
DESCRIPTION:
URL:https://lrmai.org/event/thanksgiving/
CATEGORIES:Holidays
ATTACH;FMTTYPE=image/jpeg:https://lrmai.org/wp-content/uploads/2022/06/LRMAI-Event_Thanksgiving-Day.jpg
END:VEVENT
BEGIN:VEVENT
DTSTART;TZID=America/Los_Angeles:20220920T080000
DTEND;TZID=America/Los_Angeles:20221223T170000
DTSTAMP:20260423T124354
CREATED:20221014T210144Z
LAST-MODIFIED:20230812T200355Z
UID:8610-1663660800-1671814800@lrmai.org
SUMMARY:C1FT - Acceptance Letters
DESCRIPTION:Labor Day\n\n\n\n\n\nEvent Details\n\n\n\n	\n	\n\n	\n					Details		\n	\n	\n\n		\n			\n				Date:\n				\n					 September 4\, 2023 \n				\n			\n\n		\n		\n		\n		Event Category: Holidays\n		\n		\n			\n\n	\n	\n\n\n\n\n\nUpcoming Events\n\n\n\n\n	\n		\n\n			\n			\n\n			\n			\n				\n			\n			\n	\n		\n		\n		\n		\n	\n\n\n	Notice\n							\n					There are no upcoming events.
URL:https://lrmai.org/event/cohort-1-ft-acceptance-letters/
CATEGORIES:C1FT
END:VEVENT
END:VCALENDAR